BEGIN:VCALENDAR
VERSION:2.0
PRODID:-//hacksw/handcal//NONSGML v1.0//EN
BEGIN:VEVENT
SUMMARY:Journee Randonnee Pique-Nique a NYOISEAU le jeudi 4 juin 2026
UID:e9aa5760-f95d-4231-8a90-98b21a6f7fa3
DTSTART:20260421T220000Z
DTEND:20260605T220000Z
LOCATION:Localisation   
CATEGORIES:Sportif
STATUS:
DESCRIPTION:<p><strong>Entre Angers et Rennes, impossible de rater
 ces curieux batiments en beton. Le chevalement de Bois 2 trone dans
 le paysage comme un phare dans l’ocean. Autrefois mine de fer,
 devenu aujourd’hui lieu de creation et de patrimoine. Une visite
 qui vaut le detour a toute heure et en toute saison.</strong></p>
URL;VALUE=URI:https://www.randosactivitesligeriennes.com/evenements/2026/04/22/journee-randonnee-pique-nique-a-nyoiseau-le-jeudi-4-juin-2026-2444167
END:VEVENT
END:VCALENDAR
